BEGIN:VCALENDAR
VERSION:2.0
PRODID:-//UUTISET JA TAPAHTUMAT - ECPv6.15.20//NONSGML v1.0//EN
CALSCALE:GREGORIAN
METHOD:PUBLISH
X-WR-CALNAME:UUTISET JA TAPAHTUMAT
X-ORIGINAL-URL:https://lomahanko.com
X-WR-CALDESC:Tapahtumat UUTISET JA TAPAHTUMAT
REFRESH-INTERVAL;VALUE=DURATION:PT1H
X-Robots-Tag:noindex
X-PUBLISHED-TTL:PT1H
BEGIN:VTIMEZONE
TZID:Europe/Helsinki
BEGIN:DAYLIGHT
TZOFFSETFROM:+0200
TZOFFSETTO:+0300
TZNAME:EEST
DTSTART:20250330T010000
END:DAYLIGHT
BEGIN:STANDARD
TZOFFSETFROM:+0300
TZOFFSETTO:+0200
TZNAME:EET
DTSTART:20251026T010000
END:STANDARD
BEGIN:DAYLIGHT
TZOFFSETFROM:+0200
TZOFFSETTO:+0300
TZNAME:EEST
DTSTART:20260329T010000
END:DAYLIGHT
BEGIN:STANDARD
TZOFFSETFROM:+0300
TZOFFSETTO:+0200
TZNAME:EET
DTSTART:20261025T010000
END:STANDARD
BEGIN:DAYLIGHT
TZOFFSETFROM:+0200
TZOFFSETTO:+0300
TZNAME:EEST
DTSTART:20270328T010000
END:DAYLIGHT
BEGIN:STANDARD
TZOFFSETFROM:+0300
TZOFFSETTO:+0200
TZNAME:EET
DTSTART:20271031T010000
END:STANDARD
END:VTIMEZONE
BEGIN:VEVENT
DTSTART;TZID=Europe/Helsinki:20260501T190000
DTEND;TZID=Europe/Helsinki:20260501T210000
DTSTAMP:20260423T120651
CREATED:20260420T115811Z
LAST-MODIFIED:20260420T115811Z
UID:10003285-1777662000-1777669200@lomahanko.com
SUMMARY:KINO OLYMPIA / Paholainen pukeutuu Pradaan 2
DESCRIPTION:Paholainen pukeutuu Pradaan 2\nLähes 20 vuotta sitten värikkäiden vaiheiden myötä ikonisiksi muodostuneet hahmot Miranda\, Andy\, Emily ja Nigel—Meryl Streep\, Anne Hathaway\, Emily Blunt ja Stanley Tucci palaavat New Yorkin muodikkaille kaduille ja Runway Magazinen hohdokkaaseen toimitukseen hartaasti odotetussa jatko-osassa vuoden 2006 elokuvatapaukselle\, josta muodostui sukupolvikokemus. Mukana ovat kaikki alkuperäiset päänäyttelijät sekä ohjaaja David Frankel ja käsikirjoittaja Aline Brosh McKenna\, ja heidän lisäkseen esiin marssitetaan kokonainen liuta uusia hahmoja mukaan lukien Kenneth Branagh\, Simone Ashley\, Justin Theroux\, Lucy Liu\, Patrick Brammall\, Caleb Hearon\, Helen J. Shen\, Pauline Chalamet\, B.J. Novak ja Conrad Ricamora. Myös Tracie Thoms ja Tibor Feldman palaavat ensimmäisen elokuvan Lilyn ja Irvin rooleihinsa. Elokuvan Paholainen pukeutuu Pradaan 2 on tuottanut Wendy Finerman sekä vastaavina tuottajina toimineet Michael Bederman\, Karen Rosenfelt ja McKenna. Elokuva saa ensi-iltansa vain elokuvateattereissa 1. toukokuuta 2026. \n\n\n\nkäraja\n7 \n\n\n\n\nKesto\n2h 0min\n\n\nLiput\n13.00€\n\n\nOhjaaja\nDavid Frankel\n\n\nLinkki\nVieraile\n\n\nKieli\nEnglanti\n\n\nTekstitys\nTekstitys suomeksi ja ruotsiksi
URL:https://lomahanko.com/event/kino-olympia-paholainen-pukeutuu-pradaan-2/2026-05-01/
LOCATION:Kino Olympia\, Vuorikatu 11\, Hanko\, Suomi
CATEGORIES:Elokuva
ATTACH;FMTTYPE=image/jpeg:https://lomahanko.com/wp-content/uploads/2026/04/6c2f28a4fb08bcc0e33204fe81edef7e.jpg
ORGANIZER;CN="Kino Olympia":MAILTO:ka.movie@phpoint.fi
END:VEVENT
BEGIN:VEVENT
DTSTART;TZID=Europe/Helsinki:20260502T163000
DTEND;TZID=Europe/Helsinki:20260502T183000
DTSTAMP:20260423T120651
CREATED:20260420T115811Z
LAST-MODIFIED:20260420T115811Z
UID:10003286-1777739400-1777746600@lomahanko.com
SUMMARY:KINO OLYMPIA / Paholainen pukeutuu Pradaan 2
DESCRIPTION:Paholainen pukeutuu Pradaan 2\nLähes 20 vuotta sitten värikkäiden vaiheiden myötä ikonisiksi muodostuneet hahmot Miranda\, Andy\, Emily ja Nigel—Meryl Streep\, Anne Hathaway\, Emily Blunt ja Stanley Tucci palaavat New Yorkin muodikkaille kaduille ja Runway Magazinen hohdokkaaseen toimitukseen hartaasti odotetussa jatko-osassa vuoden 2006 elokuvatapaukselle\, josta muodostui sukupolvikokemus. Mukana ovat kaikki alkuperäiset päänäyttelijät sekä ohjaaja David Frankel ja käsikirjoittaja Aline Brosh McKenna\, ja heidän lisäkseen esiin marssitetaan kokonainen liuta uusia hahmoja mukaan lukien Kenneth Branagh\, Simone Ashley\, Justin Theroux\, Lucy Liu\, Patrick Brammall\, Caleb Hearon\, Helen J. Shen\, Pauline Chalamet\, B.J. Novak ja Conrad Ricamora. Myös Tracie Thoms ja Tibor Feldman palaavat ensimmäisen elokuvan Lilyn ja Irvin rooleihinsa. Elokuvan Paholainen pukeutuu Pradaan 2 on tuottanut Wendy Finerman sekä vastaavina tuottajina toimineet Michael Bederman\, Karen Rosenfelt ja McKenna. Elokuva saa ensi-iltansa vain elokuvateattereissa 1. toukokuuta 2026. \n\n\n\nkäraja\n7 \n\n\n\n\nKesto\n2h 0min\n\n\nLiput\n13.00€\n\n\nOhjaaja\nDavid Frankel\n\n\nLinkki\nVieraile\n\n\nKieli\nEnglanti\n\n\nTekstitys\nTekstitys suomeksi ja ruotsiksi
URL:https://lomahanko.com/event/kino-olympia-paholainen-pukeutuu-pradaan-2/2026-05-02/
LOCATION:Kino Olympia\, Vuorikatu 11\, Hanko\, Suomi
CATEGORIES:Elokuva
ATTACH;FMTTYPE=image/jpeg:https://lomahanko.com/wp-content/uploads/2026/04/6c2f28a4fb08bcc0e33204fe81edef7e.jpg
ORGANIZER;CN="Kino Olympia":MAILTO:ka.movie@phpoint.fi
END:VEVENT
BEGIN:VEVENT
DTSTART;TZID=Europe/Helsinki:20260503T190000
DTEND;TZID=Europe/Helsinki:20260503T210000
DTSTAMP:20260423T120651
CREATED:20260420T115811Z
LAST-MODIFIED:20260420T115811Z
UID:10003287-1777834800-1777842000@lomahanko.com
SUMMARY:KINO OLYMPIA / Paholainen pukeutuu Pradaan 2
DESCRIPTION:Paholainen pukeutuu Pradaan 2\nLähes 20 vuotta sitten värikkäiden vaiheiden myötä ikonisiksi muodostuneet hahmot Miranda\, Andy\, Emily ja Nigel—Meryl Streep\, Anne Hathaway\, Emily Blunt ja Stanley Tucci palaavat New Yorkin muodikkaille kaduille ja Runway Magazinen hohdokkaaseen toimitukseen hartaasti odotetussa jatko-osassa vuoden 2006 elokuvatapaukselle\, josta muodostui sukupolvikokemus. Mukana ovat kaikki alkuperäiset päänäyttelijät sekä ohjaaja David Frankel ja käsikirjoittaja Aline Brosh McKenna\, ja heidän lisäkseen esiin marssitetaan kokonainen liuta uusia hahmoja mukaan lukien Kenneth Branagh\, Simone Ashley\, Justin Theroux\, Lucy Liu\, Patrick Brammall\, Caleb Hearon\, Helen J. Shen\, Pauline Chalamet\, B.J. Novak ja Conrad Ricamora. Myös Tracie Thoms ja Tibor Feldman palaavat ensimmäisen elokuvan Lilyn ja Irvin rooleihinsa. Elokuvan Paholainen pukeutuu Pradaan 2 on tuottanut Wendy Finerman sekä vastaavina tuottajina toimineet Michael Bederman\, Karen Rosenfelt ja McKenna. Elokuva saa ensi-iltansa vain elokuvateattereissa 1. toukokuuta 2026. \n\n\n\nkäraja\n7 \n\n\n\n\nKesto\n2h 0min\n\n\nLiput\n13.00€\n\n\nOhjaaja\nDavid Frankel\n\n\nLinkki\nVieraile\n\n\nKieli\nEnglanti\n\n\nTekstitys\nTekstitys suomeksi ja ruotsiksi
URL:https://lomahanko.com/event/kino-olympia-paholainen-pukeutuu-pradaan-2/2026-05-03/
LOCATION:Kino Olympia\, Vuorikatu 11\, Hanko\, Suomi
CATEGORIES:Elokuva
ATTACH;FMTTYPE=image/jpeg:https://lomahanko.com/wp-content/uploads/2026/04/6c2f28a4fb08bcc0e33204fe81edef7e.jpg
ORGANIZER;CN="Kino Olympia":MAILTO:ka.movie@phpoint.fi
END:VEVENT
BEGIN:VEVENT
DTSTART;TZID=Europe/Helsinki:20260507T180000
DTEND;TZID=Europe/Helsinki:20260507T200000
DTSTAMP:20260423T120651
CREATED:20260420T115811Z
LAST-MODIFIED:20260420T115811Z
UID:10003288-1778176800-1778184000@lomahanko.com
SUMMARY:KINO OLYMPIA / Paholainen pukeutuu Pradaan 2
DESCRIPTION:Paholainen pukeutuu Pradaan 2\nLähes 20 vuotta sitten värikkäiden vaiheiden myötä ikonisiksi muodostuneet hahmot Miranda\, Andy\, Emily ja Nigel—Meryl Streep\, Anne Hathaway\, Emily Blunt ja Stanley Tucci palaavat New Yorkin muodikkaille kaduille ja Runway Magazinen hohdokkaaseen toimitukseen hartaasti odotetussa jatko-osassa vuoden 2006 elokuvatapaukselle\, josta muodostui sukupolvikokemus. Mukana ovat kaikki alkuperäiset päänäyttelijät sekä ohjaaja David Frankel ja käsikirjoittaja Aline Brosh McKenna\, ja heidän lisäkseen esiin marssitetaan kokonainen liuta uusia hahmoja mukaan lukien Kenneth Branagh\, Simone Ashley\, Justin Theroux\, Lucy Liu\, Patrick Brammall\, Caleb Hearon\, Helen J. Shen\, Pauline Chalamet\, B.J. Novak ja Conrad Ricamora. Myös Tracie Thoms ja Tibor Feldman palaavat ensimmäisen elokuvan Lilyn ja Irvin rooleihinsa. Elokuvan Paholainen pukeutuu Pradaan 2 on tuottanut Wendy Finerman sekä vastaavina tuottajina toimineet Michael Bederman\, Karen Rosenfelt ja McKenna. Elokuva saa ensi-iltansa vain elokuvateattereissa 1. toukokuuta 2026. \n\n\n\nkäraja\n7 \n\n\n\n\nKesto\n2h 0min\n\n\nLiput\n13.00€\n\n\nOhjaaja\nDavid Frankel\n\n\nLinkki\nVieraile\n\n\nKieli\nEnglanti\n\n\nTekstitys\nTekstitys suomeksi ja ruotsiksi
URL:https://lomahanko.com/event/kino-olympia-paholainen-pukeutuu-pradaan-2/2026-05-07/
LOCATION:Kino Olympia\, Vuorikatu 11\, Hanko\, Suomi
CATEGORIES:Elokuva
ATTACH;FMTTYPE=image/jpeg:https://lomahanko.com/wp-content/uploads/2026/04/6c2f28a4fb08bcc0e33204fe81edef7e.jpg
ORGANIZER;CN="Kino Olympia":MAILTO:ka.movie@phpoint.fi
END:VEVENT
END:VCALENDAR