BEGIN:VCALENDAR
VERSION:2.0
PRODID:-//UUTISET JA TAPAHTUMAT - ECPv6.15.20//NONSGML v1.0//EN
CALSCALE:GREGORIAN
METHOD:PUBLISH
X-WR-CALNAME:UUTISET JA TAPAHTUMAT
X-ORIGINAL-URL:https://lomahanko.com
X-WR-CALDESC:Tapahtumat UUTISET JA TAPAHTUMAT
REFRESH-INTERVAL;VALUE=DURATION:PT1H
X-Robots-Tag:noindex
X-PUBLISHED-TTL:PT1H
BEGIN:VTIMEZONE
TZID:Europe/Helsinki
BEGIN:DAYLIGHT
TZOFFSETFROM:+0200
TZOFFSETTO:+0300
TZNAME:EEST
DTSTART:20250330T010000
END:DAYLIGHT
BEGIN:STANDARD
TZOFFSETFROM:+0300
TZOFFSETTO:+0200
TZNAME:EET
DTSTART:20251026T010000
END:STANDARD
BEGIN:DAYLIGHT
TZOFFSETFROM:+0200
TZOFFSETTO:+0300
TZNAME:EEST
DTSTART:20260329T010000
END:DAYLIGHT
BEGIN:STANDARD
TZOFFSETFROM:+0300
TZOFFSETTO:+0200
TZNAME:EET
DTSTART:20261025T010000
END:STANDARD
BEGIN:DAYLIGHT
TZOFFSETFROM:+0200
TZOFFSETTO:+0300
TZNAME:EEST
DTSTART:20270328T010000
END:DAYLIGHT
BEGIN:STANDARD
TZOFFSETFROM:+0300
TZOFFSETTO:+0200
TZNAME:EET
DTSTART:20271031T010000
END:STANDARD
END:VTIMEZONE
BEGIN:VEVENT
DTSTART;TZID=Europe/Helsinki:20260820T000000
DTEND;TZID=Europe/Helsinki:20260823T000000
DTSTAMP:20260423T014841
CREATED:20260420T122422Z
LAST-MODIFIED:20260420T122422Z
UID:10003291-1787184000-1787443200@lomahanko.com
SUMMARY:Le Petit Festival
DESCRIPTION:Le Petit Festival\n\n\nVuoden 2026 Le Petit Festivaalin ohjelmistossa taiteilijavieraina ovat muun muassa.\nJorma Uotinen ja Helena Lindgren\nkuvanveistäjät Tapani Kokko ja Virpi Kanto sekä\ntanssitaiteilijat Nina Hyvärinen ja Sini Länsivuori.\nNina Hyvärinen tulkitsee maailmankuulun koreografin Carolyn Carlsonin hänelle valmistaman teoksen PERSONAS. \nOhjelmistossa nähdään myös Rosa Liksomin romaaniin pohjautuva Väylä\, joka jatkaa ohjaaja Mikko Roihan dramatisoiman ja ohjaaman Ei kertonut katuvansa -produktiossa käynnistynyttä sarjaa jotka käsittelevät sotien muovaamia olosuhteita naisten näkökulmasta. Väylän esittää sukupolvensa kärkinimiin kuuluva\, Olavi Veistäjä -palkittu näyttelijä Ella Mettänen – roolityö\, jota on kuvattu kuluvan teatterikauden vaikuttavimpien joukkoon kuuluvaksi. \nTapahtumia nähdään eri puolilla Hanko 20.-23.8.2026.\nKoko festivaalin ohjelmisto julkaistaan kevään aikana. \nOsta lippu \n \n  \n 
URL:https://lomahanko.com/event/le-petit-festival/
LOCATION:Hanko\, Finland
CATEGORIES:Festivaali
ATTACH;FMTTYPE=image/jpeg:https://lomahanko.com/wp-content/uploads/2020/07/LePetitFestivalDuTheatre.jpg
END:VEVENT
END:VCALENDAR