BEGIN:VCALENDAR
VERSION:2.0
PRODID:-//UUTISET JA TAPAHTUMAT - ECPv6.15.20//NONSGML v1.0//EN
CALSCALE:GREGORIAN
METHOD:PUBLISH
X-WR-CALNAME:UUTISET JA TAPAHTUMAT
X-ORIGINAL-URL:https://lomahanko.com
X-WR-CALDESC:Tapahtumat UUTISET JA TAPAHTUMAT
REFRESH-INTERVAL;VALUE=DURATION:PT1H
X-Robots-Tag:noindex
X-PUBLISHED-TTL:PT1H
BEGIN:VTIMEZONE
TZID:Europe/Helsinki
BEGIN:DAYLIGHT
TZOFFSETFROM:+0200
TZOFFSETTO:+0300
TZNAME:EEST
DTSTART:20250330T010000
END:DAYLIGHT
BEGIN:STANDARD
TZOFFSETFROM:+0300
TZOFFSETTO:+0200
TZNAME:EET
DTSTART:20251026T010000
END:STANDARD
BEGIN:DAYLIGHT
TZOFFSETFROM:+0200
TZOFFSETTO:+0300
TZNAME:EEST
DTSTART:20260329T010000
END:DAYLIGHT
BEGIN:STANDARD
TZOFFSETFROM:+0300
TZOFFSETTO:+0200
TZNAME:EET
DTSTART:20261025T010000
END:STANDARD
BEGIN:DAYLIGHT
TZOFFSETFROM:+0200
TZOFFSETTO:+0300
TZNAME:EEST
DTSTART:20270328T010000
END:DAYLIGHT
BEGIN:STANDARD
TZOFFSETFROM:+0300
TZOFFSETTO:+0200
TZNAME:EET
DTSTART:20271031T010000
END:STANDARD
END:VTIMEZONE
BEGIN:VEVENT
DTSTART;TZID=Europe/Helsinki:20260424T170000
DTEND;TZID=Europe/Helsinki:20260424T190000
DTSTAMP:20260424T023013
CREATED:20260414T060645Z
LAST-MODIFIED:20260420T080257Z
UID:10003272-1777050000-1777057200@lomahanko.com
SUMMARY:KINO OLYMPIA / Primavera
DESCRIPTION:Venetsia 1700-luvun alussa. Pietan orpokodissa kasvatetaan hylätyistä tytöistä muusikoita. Pietan orkesteri on kuulu kautta Euroopan\, onhan orpokoti kouluttanut muusikoita jo satoja vuosia. Orpotytöt soittavat kirkon parvella ristikon takana\, jotta äveriäs seurapiiriyleisö voi paremmin keskittyä musiikkiin. Pietan johtokunta pestaa säveltäjän uransa kanssa kamppailevan Antonio Vivaldin (Michele Rondino) orkesterin opettajaksi. Poikkeuksellisen lahjakas Cecilia (Primaveran pääosassa hehkuva Tecla Insolia) nousee ykkösviulistiksi. Euroopan aateliset ja kruunupäät matkustavat Venetsiaan kuullakseen Vivaldin sävellyksiä ja Pietan orkesteria – mutta musiikki ei avaa orpokodin lukittuja portteja. Cecilia haluaa maailmalle\, eikä anna vastoinkäymisten lannistaa vapaudenkaipuutaan. Oopperaohjaajana tunnetun Damiano Michieletton esikoiselokuva PRIMAVERA elää ja hengittää Venetsian kevään\, kanavien ja musiikin ehdoilla. Michieletton oopperaohjauksia on juhlittu Milanon La Scalassa sekä Lontoon\, Pariisin ja Berliinin oopperataloissa. Ludovica Rampoldin käsikirjoitus pohjaa vapaasti Tiziano Scarpan romaaniin Stabat mater. Venetsialainen Antonio Vivaldi (1678 – 1741) sävelsi kymmeniä oopperoita\, kuoro- ja kamariteoksia sekä lukuisia sonaatteja. Konserttoja syntyi vähintään satoja. Vivaldi opetti Pietan orpokodissa 40 vuoden ajan. Hänen tunnetuin teoksensa Neljä vuodenaikaa syntyi noina vuosina. \n\n\n\nIkäraja\n12 \n\n\n\n\nKesto\n1h 50min\n\n\nLiput\n13.00€\n\n\nOhjaaja\nDamiano Michilietto\n\n\nGenre\ndraama\, musiikki\n\n\nLinkki\nVieraile\n\n\nKieli\nAlkuperäinen\n\n\nTekstitys\nTekstitys suomeksi ja ruotsiksi
URL:https://lomahanko.com/event/kino-olympia-primavera/2026-04-24/
LOCATION:Kino Olympia\, Vuorikatu 11\, Hanko\, Suomi
CATEGORIES:Elokuva
ATTACH;FMTTYPE=image/jpeg:https://lomahanko.com/wp-content/uploads/2026/04/images-6.jpeg
ORGANIZER;CN="Kino Olympia":MAILTO:ka.movie@phpoint.fi
END:VEVENT
BEGIN:VEVENT
DTSTART;TZID=Europe/Helsinki:20260424T193000
DTEND;TZID=Europe/Helsinki:20260424T213000
DTSTAMP:20260424T023013
CREATED:20260414T061638Z
LAST-MODIFIED:20260420T080821Z
UID:10003276-1777059000-1777066200@lomahanko.com
SUMMARY:KINO OLYMPIA / MICHAEL
DESCRIPTION:Michael on elokuva yhden kaikkien aikojen merkittävimmän artistin elämästä ja perinnöstä. Elokuva kertoo Michael Jacksonin tarinan seuraten hänen matkaansa The Jackson 5:n uskomattoman lahjakkaasta\, nuoresta keulahahmosta aina visionääriseksi artistiksi\, jonka kunnianhimoinen tavoite oli tulla maailman suurimmaksi tähdeksi. Tarina keskittyy Michaelin elämään konserttilavojen ulkopuolella ja soolouran alkuaikojen kuuluisimpiin esiintymisiin. Katsoja pääsee seuraamaan Michael Jacksonin elämää eturivistä ennennäkemättömällä tavalla. Tästä hänen tarinansa alkaa. Michaelin pääosissa nähdään Jaafar Jackson hänen ensimmäisessä pääroolissaan\, Nia Long (Empire\, The Best Man -elokuvasarja) ja Laura Harrier (BlacKkKlansman\, Spider-Man: Homecoming). Mukana ovat myös Miles Teller (Top Gun: Maverick\, Whiplash) ja kahdesti Oscar®-ehdokkaana ollut Colman Domingo (Sing Sing\, Rustin). Elokuvan on ohjannut Antoine Fuqua\, joka tunnetaan elokuvista Training Day ja Olympos on valloitettu sekä Equalizer-elokuvasarjasta. Käsikirjoituksen on laatinut kolmesti Oscar®-ehdokkaana ollut John Logan (Gladiator\, Lentäjä). Elokuvan ovat tuottaneet Oscar®-voittaja Graham King (The Departed\, Bohemian Rhapsody)\, John Branca (vastaava tuottaja: This Is It\, Thriller 40) ja John McClain (vastaava tuottaja: This Is It\, Michael Jackson Live at Wembley July 16\, 1988). \n\n\n\nkäraja\n12 \n\n\n\n\nKesto\n2h 7min\n\n\nLiput\n15.00€\n\n\nOhjaaja\nAntoine Fuqua\n\n\nGenre\ndraama\, musikaali\n\n\nLinkki\nVieraile\n\n\nKieli\nAlkuperäinen\n\n\nTekstitys\nTekstitys suomeksi ja ruotsiksi
URL:https://lomahanko.com/event/kino-olympia-michael/2026-04-24/
LOCATION:Kino Olympia\, Vuorikatu 11\, Hanko\, Suomi
CATEGORIES:Elokuva
ATTACH;FMTTYPE=image/jpeg:https://lomahanko.com/wp-content/uploads/2026/04/maxresdefault-5.jpg
ORGANIZER;CN="Kino Olympia":MAILTO:ka.movie@phpoint.fi
END:VEVENT
END:VCALENDAR